BEGIN:VCALENDAR
VERSION:2.0
PRODID:-//St. George Hotel - ECPv6.15.20//NONSGML v1.0//EN
CALSCALE:GREGORIAN
METHOD:PUBLISH
X-WR-CALNAME:St. George Hotel
X-ORIGINAL-URL:https://stgeorgevolcano.com
X-WR-CALDESC:Events for St. George Hotel
REFRESH-INTERVAL;VALUE=DURATION:PT1H
X-Robots-Tag:noindex
X-PUBLISHED-TTL:PT1H
BEGIN:VTIMEZONE
TZID:America/Los_Angeles
BEGIN:DAYLIGHT
TZOFFSETFROM:-0800
TZOFFSETTO:-0700
TZNAME:PDT
DTSTART:20180311T100000
END:DAYLIGHT
BEGIN:STANDARD
TZOFFSETFROM:-0700
TZOFFSETTO:-0800
TZNAME:PST
DTSTART:20181104T090000
END:STANDARD
BEGIN:DAYLIGHT
TZOFFSETFROM:-0800
TZOFFSETTO:-0700
TZNAME:PDT
DTSTART:20190310T100000
END:DAYLIGHT
BEGIN:STANDARD
TZOFFSETFROM:-0700
TZOFFSETTO:-0800
TZNAME:PST
DTSTART:20191103T090000
END:STANDARD
BEGIN:DAYLIGHT
TZOFFSETFROM:-0800
TZOFFSETTO:-0700
TZNAME:PDT
DTSTART:20200308T100000
END:DAYLIGHT
BEGIN:STANDARD
TZOFFSETFROM:-0700
TZOFFSETTO:-0800
TZNAME:PST
DTSTART:20201101T090000
END:STANDARD
END:VTIMEZONE
BEGIN:VEVENT
DTSTART;TZID=America/Los_Angeles:20190512T090000
DTEND;TZID=America/Los_Angeles:20190512T150000
DTSTAMP:20260421T094545
CREATED:20180502T170755Z
LAST-MODIFIED:20190511T070416Z
UID:384-1557651600-1557673200@stgeorgevolcano.com
SUMMARY:May 12\, 2019 - Mother's Day Brunch at The St. George Hotel
DESCRIPTION:Create Mother’s Day history and join us at the St. George Hotel for Brunch. Serving from 9:00 am to 3:00 pm on May 12\, 2019. Reservations recommended. Call 209-296-4458.
URL:https://stgeorgevolcano.com/event/mothers-day-brunch-at-the-st-george-hotel/
LOCATION:St. George Hotel\, 16104 Main Street\, Volcano\, 95689\, United States
CATEGORIES:Brunch
END:VEVENT
END:VCALENDAR